BEGIN:VCALENDAR
VERSION:2.0
PRODID:-//Willow Health &amp; Wellness - ECPv6.1.2.2//NONSGML v1.0//EN
CALSCALE:GREGORIAN
METHOD:PUBLISH
X-ORIGINAL-URL:https://willowhealthfood.com
X-WR-CALDESC:Events for Willow Health &amp; Wellness
REFRESH-INTERVAL;VALUE=DURATION:PT1H
X-Robots-Tag:noindex
X-PUBLISHED-TTL:PT1H
BEGIN:VTIMEZONE
TZID:UTC
BEGIN:STANDARD
TZOFFSETFROM:+0000
TZOFFSETTO:+0000
TZNAME:UTC
DTSTART:20190101T000000
END:STANDARD
END:VTIMEZONE
BEGIN:VEVENT
DTSTART;TZID=UTC:20191208T133000
DTEND;TZID=UTC:20191208T153000
DTSTAMP:20260424T114406
CREATED:20190513T193010Z
LAST-MODIFIED:20190513T193010Z
UID:3094-1575811800-1575819000@willowhealthfood.com
SUMMARY:Essential Oil Blending class
DESCRIPTION:There are so many things one can do with essential oils.  Once you have discovered essential oils and diffused them the next step is to find out what else you can do with these wonderful scents. \nThese precious essences from plants can also be very powerful medicines.  They can also be blended to make a delightful scent to wear.  In this class we are going to investigate these two areas.  How to effectively blend oils for therapeutic use and how to blend them as your identifying scent. \nThis class is designed to be informative ( a little technical info on the oils)\, fun (there will be some making going on) and easy to understand.  You will walk away with enough information & tools to use at home. \nI bring balance to using essential oils.  There is so much information out there by the MLM companies and their disciples.  A lot of the information that is incorrect and misleading.  I bring an approach to using essential oils that utilizes them where they shine and have no problem saying things like\, “multivitamins should NOT be made up of essential oils”.  You will learn when to use them and when not to use them. \nBarbara Myers brings these essential oils to life and demonstrates how easy it is to work with them.
URL:https://willowhealthfood.com/event/essential-oil-blending-class-3/
LOCATION:Ground Luminosity\, 1501 Lower State Rd. Bldg D. Suite 206\, North Wales\, PA\, 19454
CATEGORIES:DIY classes
ATTACH;FMTTYPE=image/jpeg:https://willowhealthfood.com/wp-content/uploads/2018/11/images-6.jpg
ORGANIZER;CN="Barbara%20Myers":MAILTO:barb@barbnd.com
END:VEVENT
END:VCALENDAR