BEGIN:VCALENDAR
VERSION:2.0
PRODID:-//Willow Health &amp; Wellness - ECPv6.1.2.2//NONSGML v1.0//EN
CALSCALE:GREGORIAN
METHOD:PUBLISH
X-WR-CALNAME:Willow Health &amp; Wellness
X-ORIGINAL-URL:https://willowhealthfood.com
X-WR-CALDESC:Events for Willow Health &amp; Wellness
REFRESH-INTERVAL;VALUE=DURATION:PT1H
X-Robots-Tag:noindex
X-PUBLISHED-TTL:PT1H
BEGIN:VTIMEZONE
TZID:UTC
BEGIN:STANDARD
TZOFFSETFROM:+0000
TZOFFSETTO:+0000
TZNAME:UTC
DTSTART:20190101T000000
END:STANDARD
END:VTIMEZONE
BEGIN:VEVENT
DTSTART;TZID=UTC:20191201T133000
DTEND;TZID=UTC:20191201T153000
DTSTAMP:20260424T125316
CREATED:20190513T172327Z
LAST-MODIFIED:20190608T172638Z
UID:3088-1575207000-1575214200@willowhealthfood.com
SUMMARY:How to Make Soap
DESCRIPTION:We make a batch of cold process soap and everyone in the class participates.\nIn this class we will: \n\nLearn about making soap\n The history of soapmaking\nThe ingredients & equipment\nThe benefits of making your own soap\nWhere to purchase everything you need to make soap\nWe make a batch of cold process soap\nEveryone goes home with a bar of soap\nThis class includes printed handouts of everything that is discussed including detailed instructions on how to make soap.\n\nMaterials charge is included in the price of the class. \nTo register call 215-997-2838 and leave your name & phone number and what class you are registering for OR email barb@barbnd.com and tell us what class you are registering for.
URL:https://willowhealthfood.com/event/how-to-make-soap-2/
LOCATION:Ground Luminosity\, 1501 Lower State Rd. Bldg D. Suite 206\, North Wales\, PA\, 19454
CATEGORIES:DIY classes
ORGANIZER;CN="Barbara%20Myers":MAILTO:barb@barbnd.com
END:VEVENT
END:VCALENDAR